BEGIN:VCALENDAR
VERSION:2.0
PRODID:gruene-schwalmtal.de
METHOD:PUBLISH
BEGIN:VTIMEZONE
TZID:Europe/Berlin
X-LIC-LOCATION:Europe/Berlin
BEGIN:DAYLIGHT
TZOFFSETFROM:+0100
TZOFFSETTO:+0200
TZNAME:CEST
DTSTART:19700329T020000
RRULE:FREQ=YEARLY;INTERVAL=1;BYDAY=-1SU;BYMONTH=3
END:DAYLIGHT
BEGIN:STANDARD
TZOFFSETFROM:+0200
TZOFFSETTO:+0100
TZNAME:CET
DTSTART:19701025T030000
RRULE:FREQ=YEARLY;INTERVAL=1;BYDAY=-1SU;BYMONTH=10
END:STANDARD
END:VTIMEZONE
BEGIN:VEVENT
UID:7ad122480d6e1cfae4e3bbe8c79f0286@gruene-schwalmtal.de
URL;VALUE=URI:https://gruene-schwalmtal.de/termine/fraktionssitzung-8/
LOCATION:Rathaus Gangeszimmer
SUMMARY:Mitgliederversammlung
DESCRIPTION;ALTREP="data:text/html,%3Cp%3EMitgliederversammlung%20mit%20a
 nschlie%C3%9Fender%20Jahresabschlussfeier%3C%2Fp%3E%0D%0A%3C%21--%20%2Fwp
 %3Aparagraph%20--%3E%0D%0A%0D%0A%3C%21--%20wp%3Aparagraph%20--%3E%0D%0A%3
 Cp%3EBeginn%2019.00%20Uhr%3C%2Fp%3E%0D%0A%3C%21--%20%2Fwp%3Aparagraph%20-
 -%3E%0D%0A%0D%0A%3C%21--%20wp%3Aparagraph%20--%3E%0D%0A%3Cp%3EGastst%C3%A
 4tte%20Wassenberg%2C%20Vogelsrath%3C%2Fp%3E":Mitgliederversammlung mit an
 schließender Jahresabschlussfeier\n\nBeginn 19.00 Uhr\n\nGaststätte Was
 senberg\, Vogelsrath
CLASS:PUBLIC
DTSTART;TZID=Europe/Berlin:20231204T193000
DTEND;TZID=Europe/Berlin:20231204T213000
DTSTAMP:20260420T080410
END:VEVENT
END:VCALENDAR