BEGIN:VCALENDAR
VERSION:2.0
PRODID:gruene-schwalmtal.de
METHOD:PUBLISH
BEGIN:VTIMEZONE
TZID:Europe/Berlin
X-LIC-LOCATION:Europe/Berlin
BEGIN:DAYLIGHT
TZOFFSETFROM:+0100
TZOFFSETTO:+0200
TZNAME:CEST
DTSTART:19700329T020000
RRULE:FREQ=YEARLY;INTERVAL=1;BYDAY=-1SU;BYMONTH=3
END:DAYLIGHT
BEGIN:STANDARD
TZOFFSETFROM:+0200
TZOFFSETTO:+0100
TZNAME:CET
DTSTART:19701025T030000
RRULE:FREQ=YEARLY;INTERVAL=1;BYDAY=-1SU;BYMONTH=10
END:STANDARD
END:VTIMEZONE
BEGIN:VEVENT
UID:2d2ab0707fd693be2bebc5218a45e7a7@gruene-schwalmtal.de
URL;VALUE=URI:https://gruene-schwalmtal.de/termine/fraktionssitzung-4/
LOCATION:Ganges Zimmer, Markt 20, 41366 Schwalmtal
SUMMARY:Fraktionssitzung
DESCRIPTION;ALTREP="data:text/html,%3Cp%3EG%C3%A4ste%20sind%20herzlich%20
 Willkommen%21%3C%2Fp%3E":Gäste sind herzlich Willkommen!
CLASS:PUBLIC
DTSTART;TZID=Europe/Berlin:20260907T193000
DTEND;TZID=Europe/Berlin:20260907T210000
DTSTAMP:20260425T151216
END:VEVENT
END:VCALENDAR